BEGIN:VCALENDAR
VERSION:2.0
PRODID:-//G7 Future of Seas and Ocean Initiative - ECPv6.15.20//NONSGML v1.0//EN
CALSCALE:GREGORIAN
METHOD:PUBLISH
X-ORIGINAL-URL:https://g7fsoi.org
X-WR-CALDESC:Events for G7 Future of Seas and Ocean Initiative
REFRESH-INTERVAL;VALUE=DURATION:PT1H
X-Robots-Tag:noindex
X-PUBLISHED-TTL:PT1H
BEGIN:VTIMEZONE
TZID:UTC
BEGIN:STANDARD
TZOFFSETFROM:+0000
TZOFFSETTO:+0000
TZNAME:UTC
DTSTART:20230101T000000
END:STANDARD
END:VTIMEZONE
BEGIN:VEVENT
DTSTART;VALUE=DATE:20241029
DTEND;VALUE=DATE:20241101
DTSTAMP:20260420T155812
CREATED:20241015T133636Z
LAST-MODIFIED:20251105T085600Z
UID:5269-1730160000-1730419199@g7fsoi.org
SUMMARY:G7 FSOI working group meeting 2024
DESCRIPTION:The G7 FSOI working group will hold its annual meeting in Rome\, Italy from 29 to 31 October 2024\, hosted by the Italian National Research Council (CNR).\nThe meeting will review the 2024 topics below in line with the revised action areas adopted at the G7 Scientific and Technological Ministerial in Bologna.\n2024 Topics to be reviewed: \n\nArctic ocean observations\,\nOne Argo\,\nOcean Carbon\,\nGovernance\, coordination\, and sustained funding for the observing system\nDigital Twin of the Ocean Capacity\nAugmented Observing and Forecasting for Marine Life\nGlobal Ocean Monitoring Indicators\nThe World Ocean Assessment
URL:https://g7fsoi.org/event/g7-fsoi-working-group-meeting-2024/
LOCATION:Rome\, Italy
ATTACH;FMTTYPE=image/jpeg:https://g7fsoi.org/wp-content/uploads/2024/10/G7FSOI_5_action_areas.jpg
END:VEVENT
END:VCALENDAR