BEGIN:VCALENDAR
VERSION:2.0
PRODID:-//G7 Future of Seas and Ocean Initiative - ECPv6.15.20//NONSGML v1.0//EN
CALSCALE:GREGORIAN
METHOD:PUBLISH
X-ORIGINAL-URL:https://g7fsoi.org
X-WR-CALDESC:Events for G7 Future of Seas and Ocean Initiative
REFRESH-INTERVAL;VALUE=DURATION:PT1H
X-Robots-Tag:noindex
X-PUBLISHED-TTL:PT1H
BEGIN:VTIMEZONE
TZID:UTC
BEGIN:STANDARD
TZOFFSETFROM:+0000
TZOFFSETTO:+0000
TZNAME:UTC
DTSTART:20230101T000000
END:STANDARD
END:VTIMEZONE
BEGIN:VEVENT
DTSTART;VALUE=DATE:20240709
DTEND;VALUE=DATE:20240712
DTSTAMP:20260423T225409
CREATED:20240205T152355Z
LAST-MODIFIED:20240205T152355Z
UID:4618-1720483200-1720742399@g7fsoi.org
SUMMARY:G7 Science and Technology Ministerial 2024
DESCRIPTION:The Science and Technology Ministers of the Group of Seven\, including the European Union\, will convene from 9 to 11 July 2024 in Bolognia and Forlì\, Italy. \nFor more information\, visit: https://www.g7italy.it/en/
URL:https://g7fsoi.org/event/g7-science-and-technology-ministerial-2024/
LOCATION:BOLOGNA AND FORLÌ
END:VEVENT
BEGIN:VEVENT
DTSTART;VALUE=DATE:20240712
DTEND;VALUE=DATE:20240713
DTSTAMP:20260423T225409
CREATED:20240702T081601Z
LAST-MODIFIED:20240702T081601Z
UID:4679-1720742400-1720828799@g7fsoi.org
SUMMARY:G7 FSOI Workshop on Marine Research Infrastructures integration and harmonization
DESCRIPTION:Research Infrastructures (RIs) are large-scale facilities that include instruments\, resources\, data\, and services used by scientists for research in their respective fields. Marine RIs consist of specialized vessels\, platforms\, and marine facilities dedicated to research and monitoring\, including sustained ocean observation systems. These systems enable continuous ocean observations that support scientific research\, public services\, marine resource management\, spatial planning\, meteorological forecasts\, hazard response\, climate services\, policy needs\, and the blue economy. Due to the number\, heterogeneity\, and complementarity of oceanic observing systems\, a coordinated effort is required to integrate and interlink different RIs and national integrated ocean observing systems\, as emphasized at the 2024 Ocean Decade Conference in Barcelona. \nTo address this issue\, the G7 FSOI Working Group endorsed a theme on the integration and harmonization of marine research infrastructures as a 2024 emerging topic. The aim is to develop a common definition of marine research infrastructure in the context of sustained ocean observing\, to map the existing facilities and observing networks currently sustained by long-term investments\, to review and assess the current limitations to sustained operations and barriers to global infrastructure sharing and collaboration\, and to agree on a common vision and strategy for integration and harmonization. \nThe workshop will take place in Bologna\, Italy on July 12\, 2024. Invited participants include a) representatives of national agencies or ministries who finance ocean observing networks\, b) leading experts and/or managers of national or regional marine research infrastructure/observing networks\, c) Global Ocean Observing System (GOOS) national focal points\, and d) relevant experts from the Group of Senior Officials on Global Research Infrastructures to provide advice on how other global research infrastructures have been established and operated. \nA summary of the workshop findings and recommendations will be presented at the 2024 G7 FSOI working group annual meeting on October 29-31\, Rome. These recommendations and eventual agreements on coordinated actions will contribute to the FSOI Working Group report to the G7 Science and Technology Ministers. \nItaly is leading the organization of this workshop with support from the UK.
URL:https://g7fsoi.org/event/g7-fsoi-workshop-on-marine-research-infrastructures-integration-and-harmonization/
LOCATION:Bologna\, Italy
ATTACH;FMTTYPE=image/png:https://g7fsoi.org/wp-content/uploads/2024/07/AudreyHasson_researchvessel.png
END:VEVENT
END:VCALENDAR