BEGIN:VCALENDAR
VERSION:2.0
PRODID:-//G7 Future of Seas and Ocean Initiative - ECPv6.15.20//NONSGML v1.0//EN
CALSCALE:GREGORIAN
METHOD:PUBLISH
X-ORIGINAL-URL:https://g7fsoi.org
X-WR-CALDESC:Events for G7 Future of Seas and Ocean Initiative
REFRESH-INTERVAL;VALUE=DURATION:PT1H
X-Robots-Tag:noindex
X-PUBLISHED-TTL:PT1H
BEGIN:VTIMEZONE
TZID:UTC
BEGIN:STANDARD
TZOFFSETFROM:+0000
TZOFFSETTO:+0000
TZNAME:UTC
DTSTART:20210101T000000
END:STANDARD
END:VTIMEZONE
BEGIN:VEVENT
DTSTART;TZID=UTC:20220504T080000
DTEND;TZID=UTC:20220505T170000
DTSTAMP:20260422T060922
CREATED:20220215T151650Z
LAST-MODIFIED:20220215T201448Z
UID:2887-1651651200-1651770000@g7fsoi.org
SUMMARY:International Digital Twins of the Ocean Summit 2022
DESCRIPTION:Building on the outcomes of the UK G7 Presidency 2021\, the UK Government will host an International Digital Twins of the Ocean Summit in London\, led by the Digital Twins of the Ocean (DITTO) programme of the UN Decade of Ocean Science for Sustainable Development\, with support from the G7 Future of the Seas and Oceans Initiative (G7 FSOI). The Summit will be an in-person high-level event with live stream Q&A\, and will include a programme of virtual satellite events hosted by GEOMAR Helmholtz Centre for Ocean Research\, Kiel\, Germany. \nFor more information\, the agenda and to register\, click here to go to the event page. \nFor information on the G7 FSOI Resource Strategy Group on Enabling Digital Twin Ocean Capability\, click here.
URL:https://g7fsoi.org/event/international-digital-twins-of-the-ocean-summit-2022/
END:VEVENT
END:VCALENDAR