BEGIN:VCALENDAR
VERSION:2.0
PRODID:-//G7 Future of Seas and Ocean Initiative - ECPv6.15.20//NONSGML v1.0//EN
CALSCALE:GREGORIAN
METHOD:PUBLISH
X-WR-CALNAME:G7 Future of Seas and Ocean Initiative
X-ORIGINAL-URL:https://g7fsoi.org
X-WR-CALDESC:Events for G7 Future of Seas and Ocean Initiative
REFRESH-INTERVAL;VALUE=DURATION:PT1H
X-Robots-Tag:noindex
X-PUBLISHED-TTL:PT1H
BEGIN:VTIMEZONE
TZID:UTC
BEGIN:STANDARD
TZOFFSETFROM:+0000
TZOFFSETTO:+0000
TZNAME:UTC
DTSTART:20200101T000000
END:STANDARD
END:VTIMEZONE
BEGIN:VEVENT
DTSTART;VALUE=DATE:20210504
DTEND;VALUE=DATE:20210602
DTSTAMP:20260422T001445
CREATED:20210328T121549Z
LAST-MODIFIED:20210506T132349Z
UID:1268-1620086400-1622591999@g7fsoi.org
SUMMARY:Global Biogeochemical-Argo Workshop
DESCRIPTION:On 4\, 11\, 18 and 25 May and June 1\, a virtual workshop will be held building on the priorities of the G7 Future of the Seas and Oceans Initiative to explore the applications of a global data-stream from the Biogeochemical-Argo array in fisheries\, carbon budget verification\, and environmental forecasting. The workshop is organised by the U.S. National Oceanic and Atmospheric Administration (NOAA)\, Monterey Bay Aquarium Research Institute (MBARI)\, and the State University of New Jersey (RUTGERS)\, with international coordination assistance from the G7 FSOI Coordination Centre\, and with financial support from NASA\, NOAA\, and NSF. \nThe workshop is motivated by the G7 Future of the Seas and Oceans Initiative for better ocean observations to ensure sustainable use by future generations.  Recent funding by the US National Science Foundation of a $53 million project\, Global Ocean Biogeochemistry Array (GO-BGC)\, to deploy 500 Biogeochemical-Argo profiling floats throughout the world ocean is an important step in this direction. Completion of the planned BGC-Argo system will require establishing collaborations with international partners\, including those beyond the G7 nations. The workshop will celebrate these initial international commitments and discuss how to ensure that the combined investment meets the priorities of the G7 and international funders and stakeholders. The workshop will prioritise next steps with partners to ensure full implementation of the array and the international collaboration required to sustain the array into the future.
URL:https://g7fsoi.org/event/biogeochemical-argo-workshop/
LOCATION:Online
END:VEVENT
END:VCALENDAR